BEGIN:VCALENDAR
VERSION:2.0
PRODID:-//The Space Coast Rocket - ECPv6.15.20//NONSGML v1.0//EN
CALSCALE:GREGORIAN
METHOD:PUBLISH
X-ORIGINAL-URL:https://thespacecoastrocket.com
X-WR-CALDESC:Events for The Space Coast Rocket
REFRESH-INTERVAL;VALUE=DURATION:PT1H
X-Robots-Tag:noindex
X-PUBLISHED-TTL:PT1H
BEGIN:VTIMEZONE
TZID:America/New_York
BEGIN:DAYLIGHT
TZOFFSETFROM:-0500
TZOFFSETTO:-0400
TZNAME:EDT
DTSTART:20240310T070000
END:DAYLIGHT
BEGIN:STANDARD
TZOFFSETFROM:-0400
TZOFFSETTO:-0500
TZNAME:EST
DTSTART:20241103T060000
END:STANDARD
BEGIN:DAYLIGHT
TZOFFSETFROM:-0500
TZOFFSETTO:-0400
TZNAME:EDT
DTSTART:20250309T070000
END:DAYLIGHT
BEGIN:STANDARD
TZOFFSETFROM:-0400
TZOFFSETTO:-0500
TZNAME:EST
DTSTART:20251102T060000
END:STANDARD
BEGIN:DAYLIGHT
TZOFFSETFROM:-0500
TZOFFSETTO:-0400
TZNAME:EDT
DTSTART:20260308T070000
END:DAYLIGHT
BEGIN:STANDARD
TZOFFSETFROM:-0400
TZOFFSETTO:-0500
TZNAME:EST
DTSTART:20261101T060000
END:STANDARD
END:VTIMEZONE
BEGIN:VEVENT
DTSTART;TZID=America/New_York:20251109T145100
DTEND;TZID=America/New_York:20251109T170000
DTSTAMP:20260419T125546
CREATED:20251107T075451Z
LAST-MODIFIED:20251107T075451Z
UID:18327-1762699860-1762707600@thespacecoastrocket.com
SUMMARY:New Glenn • EscaPADE
DESCRIPTION:A Blue Origin New Glenn rocket will launch a pair of identical spacecraft on NASA’s Escape and Plasma Acceleration and Dynamics Explorers (EscaPADE) mission. The two satellites\, named Blue and Gold\, will make a roughly 11-month journey to Mars where they will then perform about an 11-month science mission while orbiting the Red Planet. Blue and Gold were manufactured by Rocket Lab over about 3.5 years and carry science experiments from the University of California\, Berkeley. This launch of the New Glenn rocket will also feature a landing attempt on its landing barge in the Atlantic Ocean. Delayed from Oct. 13\, 2024. Delayed from mid-August. Delayed from Sept. 29.
URL:https://thespacecoastrocket.com/events/new-glenn-escapade/
LOCATION:Launch Complex 36\, Cape Canaveral Space Force Station\, Cape Canaveral\, FL
CATEGORIES:Space Launch
ATTACH;FMTTYPE=image/webp:https://thespacecoastrocket.com/wp-content/uploads/2025/11/newglenn_foundation-for-new-era.webp
END:VEVENT
BEGIN:VEVENT
DTSTART;TZID=America/New_York:20251110T171200
DTEND;TZID=America/New_York:20251110T180000
DTSTAMP:20260419T125546
CREATED:20251107T075754Z
LAST-MODIFIED:20251107T075754Z
UID:18334-1762794720-1762797600@thespacecoastrocket.com
SUMMARY:Falcon 9 • Starlink 6-87
DESCRIPTION:A SpaceX Falcon 9 rocket will launch 29 Starlink V2 Mini satellites into low Earth orbit. About 8.5 minutes after liftoff\, the first stage booster\, tail number B1096\, launching for a third time\, will target a landing on the drone ship\, ‘Just Read the Instructions’\, positioned in the Atlantic Ocean.
URL:https://thespacecoastrocket.com/events/falcon-9-starlink-6-87/
LOCATION:SLC-40\, Cape Canaveral Space Force Station\, Cape Canaveral\, Florida
ATTACH;FMTTYPE=image/png:https://thespacecoastrocket.com/wp-content/uploads/2023/11/SpaceX-3.png
END:VEVENT
END:VCALENDAR