BEGIN:VCALENDAR
VERSION:2.0
PRODID:-//The Space Coast Rocket - ECPv6.15.20//NONSGML v1.0//EN
CALSCALE:GREGORIAN
METHOD:PUBLISH
X-ORIGINAL-URL:https://thespacecoastrocket.com
X-WR-CALDESC:Events for The Space Coast Rocket
REFRESH-INTERVAL;VALUE=DURATION:PT1H
X-Robots-Tag:noindex
X-PUBLISHED-TTL:PT1H
BEGIN:VTIMEZONE
TZID:America/New_York
BEGIN:DAYLIGHT
TZOFFSETFROM:-0500
TZOFFSETTO:-0400
TZNAME:EDT
DTSTART:20230312T070000
END:DAYLIGHT
BEGIN:STANDARD
TZOFFSETFROM:-0400
TZOFFSETTO:-0500
TZNAME:EST
DTSTART:20231105T060000
END:STANDARD
BEGIN:DAYLIGHT
TZOFFSETFROM:-0500
TZOFFSETTO:-0400
TZNAME:EDT
DTSTART:20240310T070000
END:DAYLIGHT
BEGIN:STANDARD
TZOFFSETFROM:-0400
TZOFFSETTO:-0500
TZNAME:EST
DTSTART:20241103T060000
END:STANDARD
BEGIN:DAYLIGHT
TZOFFSETFROM:-0500
TZOFFSETTO:-0400
TZNAME:EDT
DTSTART:20250309T070000
END:DAYLIGHT
BEGIN:STANDARD
TZOFFSETFROM:-0400
TZOFFSETTO:-0500
TZNAME:EST
DTSTART:20251102T060000
END:STANDARD
END:VTIMEZONE
BEGIN:VEVENT
DTSTART;TZID=America/New_York:20240110T080000
DTEND;TZID=America/New_York:20240110T170000
DTSTAMP:20260419T170634
CREATED:20231211T004023Z
LAST-MODIFIED:20231211T004146Z
UID:11721-1704873600-1704906000@thespacecoastrocket.com
SUMMARY:Falcon 9 • Axiom Mission 3
DESCRIPTION:A SpaceX Falcon 9 rocket launched a Crew Dragon spacecraft on the program’s 13th flight with astronauts. The commercial mission\, managed by Axiom Space\, is commanded by a former NASA astronaut. Three passengers\, including a representative of the Turkish Space Agency\, are expected to also fly on this two-week commercial mission to the International Space Station. The Falcon 9’s first stage booster will land on a drone ship in the Atlantic Ocean. \nLaunch time: TBD\nLaunch site: TBD
URL:https://thespacecoastrocket.com/events/falcon-9-axiom-mission-3/
LOCATION:SLC-41\, Cape Canaveral Space Force Station\, Florida\, Cape Canaveral
CATEGORIES:Space Launch
ATTACH;FMTTYPE=image/png:https://thespacecoastrocket.com/wp-content/uploads/2023/11/SpaceX-3.png
END:VEVENT
END:VCALENDAR