BEGIN:VCALENDAR
VERSION:2.0
PRODID:-//The Space Coast Rocket - ECPv6.15.20//NONSGML v1.0//EN
CALSCALE:GREGORIAN
METHOD:PUBLISH
X-ORIGINAL-URL:https://thespacecoastrocket.com
X-WR-CALDESC:Events for The Space Coast Rocket
REFRESH-INTERVAL;VALUE=DURATION:PT1H
X-Robots-Tag:noindex
X-PUBLISHED-TTL:PT1H
BEGIN:VTIMEZONE
TZID:America/New_York
BEGIN:DAYLIGHT
TZOFFSETFROM:-0500
TZOFFSETTO:-0400
TZNAME:EDT
DTSTART:20220313T070000
END:DAYLIGHT
BEGIN:STANDARD
TZOFFSETFROM:-0400
TZOFFSETTO:-0500
TZNAME:EST
DTSTART:20221106T060000
END:STANDARD
BEGIN:DAYLIGHT
TZOFFSETFROM:-0500
TZOFFSETTO:-0400
TZNAME:EDT
DTSTART:20230312T070000
END:DAYLIGHT
BEGIN:STANDARD
TZOFFSETFROM:-0400
TZOFFSETTO:-0500
TZNAME:EST
DTSTART:20231105T060000
END:STANDARD
BEGIN:DAYLIGHT
TZOFFSETFROM:-0500
TZOFFSETTO:-0400
TZNAME:EDT
DTSTART:20240310T070000
END:DAYLIGHT
BEGIN:STANDARD
TZOFFSETFROM:-0400
TZOFFSETTO:-0500
TZNAME:EST
DTSTART:20241103T060000
END:STANDARD
END:VTIMEZONE
BEGIN:VEVENT
DTSTART;TZID=America/New_York:20231218T230000
DTEND;TZID=America/New_York:20231219T030000
DTSTAMP:20260420T111051
CREATED:20231211T002829Z
LAST-MODIFIED:20231218T160338Z
UID:11712-1702940400-1702954800@thespacecoastrocket.com
SUMMARY:Falcon 9 • Starlink 6-34
DESCRIPTION:A SpaceX Falcon 9 rocket will launched another batch of second-generation Starlink V2 Mini internet satellites. The Falcon 9’s first stage booster is due to land on the drone ship ‘A Shortfall of Gravitas’ in the Atlantic Ocean. Delayed from Dec. 10 & 11. Delayed from Dec. 12 due to strong\, ground-level winds. Delayed from Dec. 13 due to poor weather in the Atlantic Ocean.
URL:https://thespacecoastrocket.com/events/falcon-9-starlink-6-34/
LOCATION:LC-39A\, Kennedy Space Center\, Kennedy Space Center\, United States
CATEGORIES:Space Launch
ATTACH;FMTTYPE=image/png:https://thespacecoastrocket.com/wp-content/uploads/2023/11/SpaceX-3.png
END:VEVENT
END:VCALENDAR