BEGIN:VCALENDAR
VERSION:2.0
PRODID:-//The Space Coast Rocket - ECPv6.15.20//NONSGML v1.0//EN
CALSCALE:GREGORIAN
METHOD:PUBLISH
X-ORIGINAL-URL:https://thespacecoastrocket.com
X-WR-CALDESC:Events for The Space Coast Rocket
REFRESH-INTERVAL;VALUE=DURATION:PT1H
X-Robots-Tag:noindex
X-PUBLISHED-TTL:PT1H
BEGIN:VTIMEZONE
TZID:America/New_York
BEGIN:DAYLIGHT
TZOFFSETFROM:-0500
TZOFFSETTO:-0400
TZNAME:EDT
DTSTART:20220313T070000
END:DAYLIGHT
BEGIN:STANDARD
TZOFFSETFROM:-0400
TZOFFSETTO:-0500
TZNAME:EST
DTSTART:20221106T060000
END:STANDARD
BEGIN:DAYLIGHT
TZOFFSETFROM:-0500
TZOFFSETTO:-0400
TZNAME:EDT
DTSTART:20230312T070000
END:DAYLIGHT
BEGIN:STANDARD
TZOFFSETFROM:-0400
TZOFFSETTO:-0500
TZNAME:EST
DTSTART:20231105T060000
END:STANDARD
BEGIN:DAYLIGHT
TZOFFSETFROM:-0500
TZOFFSETTO:-0400
TZNAME:EDT
DTSTART:20240310T070000
END:DAYLIGHT
BEGIN:STANDARD
TZOFFSETFROM:-0400
TZOFFSETTO:-0500
TZNAME:EST
DTSTART:20241103T060000
END:STANDARD
END:VTIMEZONE
BEGIN:VEVENT
DTSTART;TZID=America/New_York:20231202T230000
DTEND;TZID=America/New_York:20231202T230000
DTSTAMP:20260420T095635
CREATED:20231202T220719Z
LAST-MODIFIED:20231202T220739Z
UID:11636-1701558000-1701558000@thespacecoastrocket.com
SUMMARY:Falcon 9 • Starlink 6-31
DESCRIPTION:A SpaceX Falcon 9 rocket will launch another batch of 23 second-generation Starlink V2 Mini internet satellites. The Falcon 9’s first stage booster will land on the drone ship ‘A Shortfall of Gravitas’ in the Atlantic Ocean. The recovery vessel\, ‘Doug\,’ will be used to scoop up the fairing halves following the launch. Watch live coverage of the Starlink 6-31 launch starting at T-1 hour.
URL:https://thespacecoastrocket.com/events/falcon-9-starlink-6-31/
LOCATION:SLC-40\, Cape Canaveral Space Force Station\, Cape Canaveral\, Florida
CATEGORIES:Space Launch
ATTACH;FMTTYPE=image/png:https://thespacecoastrocket.com/wp-content/uploads/2023/11/SpaceX-3.png
END:VEVENT
BEGIN:VEVENT
DTSTART;TZID=America/New_York:20231218T230000
DTEND;TZID=America/New_York:20231219T030000
DTSTAMP:20260420T095635
CREATED:20231211T002829Z
LAST-MODIFIED:20231218T160338Z
UID:11712-1702940400-1702954800@thespacecoastrocket.com
SUMMARY:Falcon 9 • Starlink 6-34
DESCRIPTION:A SpaceX Falcon 9 rocket will launched another batch of second-generation Starlink V2 Mini internet satellites. The Falcon 9’s first stage booster is due to land on the drone ship ‘A Shortfall of Gravitas’ in the Atlantic Ocean. Delayed from Dec. 10 & 11. Delayed from Dec. 12 due to strong\, ground-level winds. Delayed from Dec. 13 due to poor weather in the Atlantic Ocean.
URL:https://thespacecoastrocket.com/events/falcon-9-starlink-6-34/
LOCATION:LC-39A\, Kennedy Space Center\, Kennedy Space Center\, United States
CATEGORIES:Space Launch
ATTACH;FMTTYPE=image/png:https://thespacecoastrocket.com/wp-content/uploads/2023/11/SpaceX-3.png
END:VEVENT
BEGIN:VEVENT
DTSTART;TZID=America/New_York:20231228T190000
DTEND;TZID=America/New_York:20231228T193000
DTSTAMP:20260420T095635
CREATED:20231202T220407Z
LAST-MODIFIED:20231216T025208Z
UID:10491-1703790000-1703791800@thespacecoastrocket.com
SUMMARY:Falcon Heavy • USSF 52
DESCRIPTION:A SpaceX Falcon Heavy rocket will launch the USSF 52 mission for the U.S. Space Force. The Falcon Heavy will launch the experimental X-37B Orbital Test Vehicle on this mission. This will be the seventh flight of this spacecraft on a mission also known as OTV-7. This will be the first launch of an X-37B using a Falcon Heavy rocket. There is a 10-minute launch window for this mission. Delayed from October 2021 and 2nd Quarter 2022. Delayed from October 2022 and June 23\, delayed from July 6\, Dec 7\, 10 & 11.
URL:https://thespacecoastrocket.com/events/falcon-heavy-ussf/
LOCATION:LC-39A\, Kennedy Space Center\, Kennedy Space Center\, United States
CATEGORIES:Space Launch
ATTACH;FMTTYPE=image/png:https://thespacecoastrocket.com/wp-content/uploads/2023/12/SpaceX-1.png
END:VEVENT
END:VCALENDAR