BEGIN:VCALENDAR
VERSION:2.0
PRODID:-//The Space Coast Rocket - ECPv6.15.20//NONSGML v1.0//EN
CALSCALE:GREGORIAN
METHOD:PUBLISH
X-WR-CALNAME:The Space Coast Rocket
X-ORIGINAL-URL:https://thespacecoastrocket.com
X-WR-CALDESC:Events for The Space Coast Rocket
REFRESH-INTERVAL;VALUE=DURATION:PT1H
X-Robots-Tag:noindex
X-PUBLISHED-TTL:PT1H
BEGIN:VTIMEZONE
TZID:America/New_York
BEGIN:DAYLIGHT
TZOFFSETFROM:-0500
TZOFFSETTO:-0400
TZNAME:EDT
DTSTART:20230312T070000
END:DAYLIGHT
BEGIN:STANDARD
TZOFFSETFROM:-0400
TZOFFSETTO:-0500
TZNAME:EST
DTSTART:20231105T060000
END:STANDARD
BEGIN:DAYLIGHT
TZOFFSETFROM:-0500
TZOFFSETTO:-0400
TZNAME:EDT
DTSTART:20240310T070000
END:DAYLIGHT
BEGIN:STANDARD
TZOFFSETFROM:-0400
TZOFFSETTO:-0500
TZNAME:EST
DTSTART:20241103T060000
END:STANDARD
BEGIN:DAYLIGHT
TZOFFSETFROM:-0500
TZOFFSETTO:-0400
TZNAME:EDT
DTSTART:20250309T070000
END:DAYLIGHT
BEGIN:STANDARD
TZOFFSETFROM:-0400
TZOFFSETTO:-0500
TZNAME:EST
DTSTART:20251102T060000
END:STANDARD
END:VTIMEZONE
BEGIN:VEVENT
DTSTART;TZID=America/New_York:20240217T120000
DTEND;TZID=America/New_York:20240217T200000
DTSTAMP:20260420T225102
CREATED:20240209T004457Z
LAST-MODIFIED:20240209T004501Z
UID:12406-1708171200-1708200000@thespacecoastrocket.com
SUMMARY:4TH ANNUAL 321: FOOD FEST & CRAFT FAIR
DESCRIPTION:/ / / / / / / / 4TH ANNUAL 321: FOOD FEST & CRAFT FAIR / / / / / / / /\n⭐️ With Non-Profit: The Arc of Space Coast ⭐️\n😋 ALL MENU ITEMS $5 OR LESS!!! 😋\n✔️ Click “INTERESTED”/”GOING” for Event Updates!\nwww.321FoodFest.com\n❗️FAMILY FRIENDLY EVENT❗️\nBREVARD COUNTY’S FAVORITE & THE SPACE COAST’S BIGGEST & BEST 2- DAY FOOD FESTIVAL & CRAFT FAIR!\n🎉 2 day event\, Saturday Noon – 8 PM and Sunday 11am – 6pm with the opportunity to come and go at your convenience or stay and party with us all day & into the night! 🥳\n🎉 Brevard County’s largest FOOD FESTIVAL\, featuring EVENT SPECIAL A LA CARTE TASTING MENUS priced at only $1-$5 per item\, offering you the opportunity to sample a vast variety of all the best from the Space Coast and beyond all in one place!\n🎉 Large variety of Alcohol\, including Cocktails\, Hard Seltzers\, Local Craft Brews\, Domestic and Import Beers\, and Non-Alcoholic Beverages served up by Cocktails 2 You!! 🍺🥤\n🎉 Live Music from the area’s HOTTEST BANDS to keep the good vibes going all day & into the night! 🎶\n🎉 CRAFT FAIR Marketplace featuring Local Businesses\, Crafters\, Artists\, and Specialty Artisans! 🛍\n🎉 Axe Throwing with East Coast Axe Co.\, Gem Mining with The Rolling Stones Mobile Gem Mining\, Face Painting with Bounce Around Brevard\, Foam Party with Fabulous Foam Parties & other on-site activities to add to the fun! 😃\n🎉 Vote for your favorite food in the Competition part of the event!\n🎉 “VIP PASS” for an Exclusive Event Experience!! *LIMITED OFFER: LESS THAN 100 AVAILABLE ✳️\n🎶BAND SCHEDULE🎶\nSATURDAY\, FEB. 17TH\n🎶 Chemistry The Ultimate 80’s Experience >> 12PM – 2PM\n🎶 Three O Clock Storm >> 2:30PM – 5:30PM\n🎶 Floriduh Party Band >> 6PM – 8PM\nSUNDAY\, FEB. 18TH\n🎶Tru Phonic >> 11AM – 1PM\n🎶 Blender >> 1:30PM – 3:30PM\n🎶 Joules Rio >> 4PM – 6PM\n✳️ ON SALE SOON:\nBuy Online – Skip the Line!\nHead straight to the “PRE-PAID TICKET LINE” at the Front Gate!\nwww.321FoodFest.com\n🎟 TICKETS:\n1️⃣ General Admission: $7 per person for single day\, $10 for weekend pass\n🆓 Kids 10 & Younger get FREE ENTRY!\n• ALL ATTENDEES Ages 11 Years & Older Will Require an Admission Ticket.\n2️⃣ VIP Pass: $100\n🥳 Great Deal for Couples\, Groups\, & Extreme Foodies to Share!\nIncludes:\n• FREE 2-Day Event Admission for VIP Passholder + (3) Guests\n• (1) FREE Menu Item from Each Food Vendor (*Meaning: 1 Free Menu Item from EVERY Food Vendor PER VIP Pass… NOT PER PERSON in group)\n🤩 ($228 Value!)\n✳️ LIMITED OFFER: LESS THAN 100 “VIP PASSES” AVAILABLE ✳️\n😋 See 321FoodFest.com for current list of food & Craft Fair vendors 😋\n💛 SPONSORS 💛\n💛 Carroll Distributing\n💛 Cocktails 2 You\n💛 RezPro LLC\n💛 Space Coast Cart Rentals\n💛 EF Education First\n💛 Renewal by Andersen\n💛 Mister Munchi\n💛 7 Brew\n💛 The Rolling Stones Mobile Gem Mining\n💛 East Coast Axe Co.\n💛 Gotta Go Green\n💛 Southern Tape & Label\n💛 Cumulus Media\n💛 The Pool Whisperer\n💛 Intracoastal Dumpster\n💛 Bounce Around Brevard\n💛 LeafFilter Gutter Protection\n💛 Savings Safari\n💛 Tipsy Flamingo\n💛 Air Gagers\n💛 Nate’s Dryer Vent Cleaning\n💛 Westgate Resorts\n💛 Coastline Family Chiropractic\n💛 The Space Coast Rocket\n💛 Decker Photography\n💛 Fabulous Foam Parties\n💛 Max Q Designs Custom Apparel See less
URL:https://thespacecoastrocket.com/events/4th-annual-321-food-fest-craft-fair/
LOCATION:WIckham Park\, 2500 Parkway Drive\, Melbourne\, 32935
CATEGORIES:Entertainment,Festivals,Food,Kids,Live Music
ATTACH;FMTTYPE=image/webp:https://thespacecoastrocket.com/wp-content/uploads/2024/02/FB-Event-Header-4th-ANNUAL.webp
END:VEVENT
END:VCALENDAR