BEGIN:VCALENDAR
VERSION:2.0
PRODID:-//The Space Coast Rocket - ECPv6.15.20//NONSGML v1.0//EN
CALSCALE:GREGORIAN
METHOD:PUBLISH
X-ORIGINAL-URL:https://thespacecoastrocket.com
X-WR-CALDESC:Events for The Space Coast Rocket
REFRESH-INTERVAL;VALUE=DURATION:PT1H
X-Robots-Tag:noindex
X-PUBLISHED-TTL:PT1H
BEGIN:VTIMEZONE
TZID:America/New_York
BEGIN:DAYLIGHT
TZOFFSETFROM:-0500
TZOFFSETTO:-0400
TZNAME:EDT
DTSTART:20230312T070000
END:DAYLIGHT
BEGIN:STANDARD
TZOFFSETFROM:-0400
TZOFFSETTO:-0500
TZNAME:EST
DTSTART:20231105T060000
END:STANDARD
BEGIN:DAYLIGHT
TZOFFSETFROM:-0500
TZOFFSETTO:-0400
TZNAME:EDT
DTSTART:20240310T070000
END:DAYLIGHT
BEGIN:STANDARD
TZOFFSETFROM:-0400
TZOFFSETTO:-0500
TZNAME:EST
DTSTART:20241103T060000
END:STANDARD
BEGIN:DAYLIGHT
TZOFFSETFROM:-0500
TZOFFSETTO:-0400
TZNAME:EDT
DTSTART:20250309T070000
END:DAYLIGHT
BEGIN:STANDARD
TZOFFSETFROM:-0400
TZOFFSETTO:-0500
TZNAME:EST
DTSTART:20251102T060000
END:STANDARD
END:VTIMEZONE
BEGIN:VEVENT
DTSTART;TZID=America/New_York:20240121T100000
DTEND;TZID=America/New_York:20240121T150000
DTSTAMP:20260422T073221
CREATED:20231219T001159Z
LAST-MODIFIED:20231219T001159Z
UID:11859-1705831200-1705849200@thespacecoastrocket.com
SUMMARY:Green Gables 3rd Annual Classic Car and Truck Show
DESCRIPTION:Mark your calendar for the 3rd Annual Classic Car and Truck Show at Green Gables on U.S. 1 in Melbourne 32901. Vintage car and trucks includng many rare finds at this car show! Free entrrance to the show; $20 for registrants\, which includes a tour of the historic home.\nTours for the public are $10 each.
URL:https://thespacecoastrocket.com/events/green-gables-3rd-annual-classic-car-and-truck-show/
LOCATION:Green Gables\, 1501 South Harbor City Blvd\, Melbourne\, FL\, 32901
CATEGORIES:Car Show
ATTACH;FMTTYPE=image/png:https://thespacecoastrocket.com/wp-content/uploads/2023/12/Screenshot-2023-12-18-at-7.10.05-PM.png
END:VEVENT
END:VCALENDAR