BEGIN:VCALENDAR
VERSION:2.0
PRODID:-//The Space Coast Rocket - ECPv6.15.20//NONSGML v1.0//EN
CALSCALE:GREGORIAN
METHOD:PUBLISH
X-ORIGINAL-URL:https://thespacecoastrocket.com
X-WR-CALDESC:Events for The Space Coast Rocket
REFRESH-INTERVAL;VALUE=DURATION:PT1H
X-Robots-Tag:noindex
X-PUBLISHED-TTL:PT1H
BEGIN:VTIMEZONE
TZID:America/New_York
BEGIN:DAYLIGHT
TZOFFSETFROM:-0500
TZOFFSETTO:-0400
TZNAME:EDT
DTSTART:20230312T070000
END:DAYLIGHT
BEGIN:STANDARD
TZOFFSETFROM:-0400
TZOFFSETTO:-0500
TZNAME:EST
DTSTART:20231105T060000
END:STANDARD
BEGIN:DAYLIGHT
TZOFFSETFROM:-0500
TZOFFSETTO:-0400
TZNAME:EDT
DTSTART:20240310T070000
END:DAYLIGHT
BEGIN:STANDARD
TZOFFSETFROM:-0400
TZOFFSETTO:-0500
TZNAME:EST
DTSTART:20241103T060000
END:STANDARD
BEGIN:DAYLIGHT
TZOFFSETFROM:-0500
TZOFFSETTO:-0400
TZNAME:EDT
DTSTART:20250309T070000
END:DAYLIGHT
BEGIN:STANDARD
TZOFFSETFROM:-0400
TZOFFSETTO:-0500
TZNAME:EST
DTSTART:20251102T060000
END:STANDARD
END:VTIMEZONE
BEGIN:VEVENT
DTSTART;TZID=America/New_York:20241214T173000
DTEND;TZID=America/New_York:20241214T193000
DTSTAMP:20260422T180323
CREATED:20241130T181950Z
LAST-MODIFIED:20241130T181950Z
UID:14952-1734197400-1734204600@thespacecoastrocket.com
SUMMARY:22nd Annual Turkey Creek Christmas Boat Parade
DESCRIPTION:Decorated boats will meet at 5:30 PM on Turkey Creek in front of Palm Bay Marina. We will head east past Palm Bay Point to the mouth of the Indian River and turning around then heading back to Turkey Creek and motoring down Turkey Creek towards Port Malabar Blvd. Boaters turn your VHF to channel 71.
URL:https://thespacecoastrocket.com/events/22nd-annual-turkey-creek-christmas-boat-parade/
LOCATION:Palm Bay Marina\, Palm Bay\, FL
CATEGORIES:Christmas,Parades
ATTACH;FMTTYPE=image/jpeg:https://thespacecoastrocket.com/wp-content/uploads/2024/11/462927776_8504263816336094_4756780848671904245_n.jpg
END:VEVENT
BEGIN:VEVENT
DTSTART;TZID=America/New_York:20241221T103000
DTEND;TZID=America/New_York:20241221T170000
DTSTAMP:20260422T180323
CREATED:20241130T183206Z
LAST-MODIFIED:20241130T183206Z
UID:14961-1734777000-1734800400@thespacecoastrocket.com
SUMMARY:Family Christmas Extravaganza
DESCRIPTION:2024 marks the 16th Annual Family Christmas Extravaganza!\nThe Family Christmas Extravaganza takes place on Saturday\, December 21 from 10:30 AM to 5 PM at Fred Poppe Regional Park (1951 Malabar Rd. NW).\nThis is a 100% FREE community event featuring live entertainment\, free popcorn\, cotton candy\, hot dogs\, and drinks. Free activities include bounce houses\, horse rides\, face painting\, giveaways\, and SO much more!\nFor more information: familychristmasextravaganza.com
URL:https://thespacecoastrocket.com/events/family-christmas-extravaganza/
LOCATION:Fred Poppe Regional Park\, 1951 Malabar Rd\, Palm Bay\, Florida\, 32907
CATEGORIES:Christmas,Community,Festivals,Kids
ATTACH;FMTTYPE=image/jpeg:https://thespacecoastrocket.com/wp-content/uploads/2024/11/464216093_908887831337862_1058126621579428219_n.jpg
END:VEVENT
BEGIN:VEVENT
DTSTART;TZID=America/New_York:20241224T073000
DTEND;TZID=America/New_York:20241224T120000
DTSTAMP:20260422T180323
CREATED:20241130T181526Z
LAST-MODIFIED:20241130T181526Z
UID:14948-1735025400-1735041600@thespacecoastrocket.com
SUMMARY:Surfing Santas of Cocoa Beach 2024
DESCRIPTION:It’s 2024 and we are calling all the tribes to gather yet again in Cocoa Beach on Surfing Santa Day to surf together. We want hundreds of Surfing Santas to show up and surf and thousands of spectators to come and watch. Let’s all share the love\, joy\, and hope on the beach\, together again\, 7:30am\, December 24th\, at the end of Minutemen Cswy\, (located in front of Coconuts on the Beach.) \nWhat started as a fun family outing in 2009 has grown to become an annual event that raises tens of thousands of dollars for local charities and draws surfing and Christmas enthusiasts from all over the planet. \nOver the past decade\, Surfing Santas has grown into one of the most unique and fun-filled charity events the world has ever seen. This congregation of costumed kahunas has grown to record-breaking numbers with over 800 Surfing Santas and nearly 10\,000 spectators. Sponsorship from the city of Cocoa Beach and the participation of local businesses have come to make this a true community event. Moreover\, the event benefits the Florida Surf Museum which is “Preserving Floridas Surfing History” and Grind for Life\, a local charity benefiting people suffering from cancer. \nThe Surfing Santas are sure to set more records in the holiday sun this year. There will undoubtedly be sights unseen before on beaches anywhere else in the world. \nThe first professional surfer\, Phil Edwards\, once said\, “The best surfer out there is the one having the most fun.” On December 24th at 8:00am\, the world’s “best surfers” of all skill levels and all ages will be in Cocoa Beach fully clad in their finest holiday gear and having the most fun the Christmas surf and sun can provide. Get your costumes ready and plan to join the fun this Christmas Eve. \nThe community’s support has been overwhelming\, and Surfing Santas Cocoa Beach thanks everyone who wants to ride the Surfing Santa wave.\nSurfingSantas.org
URL:https://thespacecoastrocket.com/events/surfing-santas-of-cocoa-beach-2024/
LOCATION:Surfing Santas of Cocoa Beach\, 2 Minutemen Cswy\, Cocoa Beach\, FL\, 32931
CATEGORIES:Beach,Christmas,Surfing
ATTACH;FMTTYPE=image/jpeg:https://thespacecoastrocket.com/wp-content/uploads/2024/11/465409644_898368342392401_736452674447354761_n.jpg
END:VEVENT
END:VCALENDAR