BEGIN:VCALENDAR
VERSION:2.0
PRODID:-//The Space Coast Rocket - ECPv6.15.20//NONSGML v1.0//EN
CALSCALE:GREGORIAN
METHOD:PUBLISH
X-WR-CALNAME:The Space Coast Rocket
X-ORIGINAL-URL:https://thespacecoastrocket.com
X-WR-CALDESC:Events for The Space Coast Rocket
REFRESH-INTERVAL;VALUE=DURATION:PT1H
X-Robots-Tag:noindex
X-PUBLISHED-TTL:PT1H
BEGIN:VTIMEZONE
TZID:America/New_York
BEGIN:DAYLIGHT
TZOFFSETFROM:-0500
TZOFFSETTO:-0400
TZNAME:EDT
DTSTART:20220313T070000
END:DAYLIGHT
BEGIN:STANDARD
TZOFFSETFROM:-0400
TZOFFSETTO:-0500
TZNAME:EST
DTSTART:20221106T060000
END:STANDARD
BEGIN:DAYLIGHT
TZOFFSETFROM:-0500
TZOFFSETTO:-0400
TZNAME:EDT
DTSTART:20230312T070000
END:DAYLIGHT
BEGIN:STANDARD
TZOFFSETFROM:-0400
TZOFFSETTO:-0500
TZNAME:EST
DTSTART:20231105T060000
END:STANDARD
BEGIN:DAYLIGHT
TZOFFSETFROM:-0500
TZOFFSETTO:-0400
TZNAME:EDT
DTSTART:20240310T070000
END:DAYLIGHT
BEGIN:STANDARD
TZOFFSETFROM:-0400
TZOFFSETTO:-0500
TZNAME:EST
DTSTART:20241103T060000
END:STANDARD
END:VTIMEZONE
BEGIN:VEVENT
DTSTART;TZID=America/New_York:20231224T073000
DTEND;TZID=America/New_York:20231224T120000
DTSTAMP:20260422T150826
CREATED:20231126T035032Z
LAST-MODIFIED:20231126T035032Z
UID:10479-1703403000-1703419200@thespacecoastrocket.com
SUMMARY:Surfing Santas 2023
DESCRIPTION:You’re invited to join in on this Cocoa Beach tradition that brings hundreds of surfers to the beach… dressed up as Santa\, Surfing Santas 2023! We’re looking forward to this event being our best one yet.\nWhat started out as a small\, family day in Cocoa Beach has turned into a global phenomenon. People from all over congregate on Christmas Eve in Cocoa Beach to celebrate the holidays with Santa\, friends\, and family. Whether you surf or you’re looking to join in the holiday spirit\, there’s no other beach having this much fun on Christmas Eve!\nThis event is family-friendly\, costume-encouraged\, and extremely festive. Tell your friends\, don’t forget your Santa hat\, see you there! \nAbout Us
URL:https://thespacecoastrocket.com/events/surfing-santas-2023/
LOCATION:Coconuts on the Beach\, 2 Minutemen Causeway\, Cocoa Beach\, Florida\, 32931
CATEGORIES:Beach,Christmas,Community,Surfing
ATTACH;FMTTYPE=image/png:https://thespacecoastrocket.com/wp-content/uploads/2023/11/Surfing_Santas_2023-Shirt-Logo-700-600x600-1.png
END:VEVENT
END:VCALENDAR