BEGIN:VCALENDAR
VERSION:2.0
PRODID:-//The Space Coast Rocket - ECPv6.15.20//NONSGML v1.0//EN
CALSCALE:GREGORIAN
METHOD:PUBLISH
X-WR-CALNAME:The Space Coast Rocket
X-ORIGINAL-URL:https://thespacecoastrocket.com
X-WR-CALDESC:Events for The Space Coast Rocket
REFRESH-INTERVAL;VALUE=DURATION:PT1H
X-Robots-Tag:noindex
X-PUBLISHED-TTL:PT1H
BEGIN:VTIMEZONE
TZID:America/New_York
BEGIN:DAYLIGHT
TZOFFSETFROM:-0500
TZOFFSETTO:-0400
TZNAME:EDT
DTSTART:20230312T070000
END:DAYLIGHT
BEGIN:STANDARD
TZOFFSETFROM:-0400
TZOFFSETTO:-0500
TZNAME:EST
DTSTART:20231105T060000
END:STANDARD
BEGIN:DAYLIGHT
TZOFFSETFROM:-0500
TZOFFSETTO:-0400
TZNAME:EDT
DTSTART:20240310T070000
END:DAYLIGHT
BEGIN:STANDARD
TZOFFSETFROM:-0400
TZOFFSETTO:-0500
TZNAME:EST
DTSTART:20241103T060000
END:STANDARD
BEGIN:DAYLIGHT
TZOFFSETFROM:-0500
TZOFFSETTO:-0400
TZNAME:EDT
DTSTART:20250309T070000
END:DAYLIGHT
BEGIN:STANDARD
TZOFFSETFROM:-0400
TZOFFSETTO:-0500
TZNAME:EST
DTSTART:20251102T060000
END:STANDARD
BEGIN:DAYLIGHT
TZOFFSETFROM:-0500
TZOFFSETTO:-0400
TZNAME:EDT
DTSTART:20260308T070000
END:DAYLIGHT
BEGIN:STANDARD
TZOFFSETFROM:-0400
TZOFFSETTO:-0500
TZNAME:EST
DTSTART:20261101T060000
END:STANDARD
END:VTIMEZONE
BEGIN:VEVENT
DTSTART;TZID=America/New_York:20241207T160000
DTEND;TZID=America/New_York:20241207T190000
DTSTAMP:20260422T232704
CREATED:20241130T183614Z
LAST-MODIFIED:20241130T183614Z
UID:14964-1733587200-1733598000@thespacecoastrocket.com
SUMMARY:Light Up Rockledge & Festival of Trees
DESCRIPTION:Join us at the Rockledge Civic Hub for the Annual Light Up Rockledge & Festival of Trees!\n*FREE spectator entry! Just bring a canned food item!\n*Christmas Tree Stroll\n*Food Trucks/Vendors\n*Gift Vendors\n*Christmas tree silent auction where proceeds will help reduce student lunch debt at Rockledge public schools\n*Enjoy live holiday music courtesy of Rockledge High School and McNair Magnet Middle School\n*Reading of The Night Before Christmas\nFood trucks/vendors and gift vendors will open at 4:00 p.m. The lighting program will begin at 6:00 p.m.\nIf you place the winning bid on a Christmas tree and can’t bring it home yourself\, our friends at W&J Construction will deliver it to your home!\nSet up a vendor table and offer gifts for sale! Vendors are permitted to sell goods and pre-packaged foods that can be gifted\, as well as gift cards and gift baskets. No vendor-made food can be sold without proper licensing (proof of license must be submitted with your completed registration form).\nTree Sponsor Registration Fee (tree only): $40.00\nGift Vendor Registration Fee (vendor only): $25.00\nTree Sponsor/Gift Vendor Registration Fee: $60.00 ($5 discount)\nFor more info\, to sponsor a tree\, or to sign up to be a gift vendor\, contact Kerry Charbonneau at (321) 221-7540 ext. 160 or kcharbonneau@cityofrockledge.org!
URL:https://thespacecoastrocket.com/events/light-up-rockledge-festival-of-trees/
LOCATION:Rockledge Civic Hub\, 530 Barton Blvd\, Rockledge\, FL\, 32955
CATEGORIES:Causes,Charity,Christmas,Festivals,Kids
ATTACH;FMTTYPE=image/jpeg:https://thespacecoastrocket.com/wp-content/uploads/2024/11/463596162_971607811676690_8647293949585237417_n.jpg
END:VEVENT
BEGIN:VEVENT
DTSTART;TZID=America/New_York:20250118T110000
DTEND;TZID=America/New_York:20250118T150000
DTSTAMP:20260422T232704
CREATED:20241130T174634Z
LAST-MODIFIED:20241130T174634Z
UID:14935-1737198000-1737212400@thespacecoastrocket.com
SUMMARY:Brevard Women's March: We Won't Back Down
DESCRIPTION:We won’t back down!\nWe are not done. \nWith Trump set to return to the White House early next year\, we are facing a moment that call us to act boldly.\nIt’s time to march! \nWe will never stop fighting for what matters to women and our community. \nJennifer Jenkins along with of multiple organizations across Brevard are hosting a Brevard Women’s March to come together for a moment of unity and a call for action. \nSupportive men are welcomed as well! \nJoin us on January 18\, 2025 at 11am at Eau Gallie Square Park 1452 Highland Ave\, Melbourne\, FL\, US.
URL:https://thespacecoastrocket.com/events/brevard-womens-march-we-wont-back-down/
LOCATION:Eau Galle Square Park\, 1452 Highland Ave.\, Melbourne\, 32935\, United States
CATEGORIES:Causes,Political,Walk
ATTACH;FMTTYPE=image/webp:https://thespacecoastrocket.com/wp-content/uploads/2024/11/84332647_1732230301723547_r.webp
END:VEVENT
BEGIN:VEVENT
DTSTART;TZID=America/New_York:20250913T113000
DTEND;TZID=America/New_York:20250913T143000
DTSTAMP:20260422T232704
CREATED:20250819T000045Z
LAST-MODIFIED:20250819T000045Z
UID:17474-1757763000-1757773800@thespacecoastrocket.com
SUMMARY:Politics\, Religion\, and Society: A Panel Discussion and Luncheon
DESCRIPTION:The League of Women Voters of the Space Coast will host a panel discussion on “Politics\, Religion\, and Society”. The event will take place on Saturday\, September 13\, 2025 at the Suntree Country Club\, 300 Country Club Dr.\, Melbourne\, FL 32940.  The event begins at 11:30 a.m. with a hot luncheon buffet and panel discussion until 2:30 p.m. Expert panelists are Reverend Cynthia Brust- Christ Episcopal Church\, Rabbi Patricia Hickman- Rabbi Emerita of Temple Israel\, and Venerable Thanchaokhun Sunan-Abbot of Wat Florida Dharmmaram.  The moderator is Dr. Terri Fine\, Professor Emerita of Political Science UCF. The cost for the event is $28.  Visit www.lwv-spacecoast.org  to reserve. \nThe League of Women Voters of the Space Coast is a non-partisan political organization with the mission of Defending Democracy; Empowering Voters.
URL:https://thespacecoastrocket.com/events/politics-religion-and-society-a-panel-discussion-and-luncheon/
LOCATION:Suntree Country Club\, 300 Country Club Dr.\, Melbourne\, FL\, 32940
CATEGORIES:Causes,Community,Political,Religion
ATTACH;FMTTYPE=image/png:https://thespacecoastrocket.com/wp-content/uploads/2025/08/LWVSC-final-corrected-.png
ORGANIZER;CN="League of Women Voters of the Space Coast":MAILTO:dbconaway7@gmail.com
END:VEVENT
END:VCALENDAR