BEGIN:VCALENDAR
VERSION:2.0
PRODID:-//The Space Coast Rocket - ECPv6.15.20//NONSGML v1.0//EN
CALSCALE:GREGORIAN
METHOD:PUBLISH
X-WR-CALNAME:The Space Coast Rocket
X-ORIGINAL-URL:https://thespacecoastrocket.com
X-WR-CALDESC:Events for The Space Coast Rocket
REFRESH-INTERVAL;VALUE=DURATION:PT1H
X-Robots-Tag:noindex
X-PUBLISHED-TTL:PT1H
BEGIN:VTIMEZONE
TZID:America/New_York
BEGIN:DAYLIGHT
TZOFFSETFROM:-0500
TZOFFSETTO:-0400
TZNAME:EDT
DTSTART:20230312T070000
END:DAYLIGHT
BEGIN:STANDARD
TZOFFSETFROM:-0400
TZOFFSETTO:-0500
TZNAME:EST
DTSTART:20231105T060000
END:STANDARD
BEGIN:DAYLIGHT
TZOFFSETFROM:-0500
TZOFFSETTO:-0400
TZNAME:EDT
DTSTART:20240310T070000
END:DAYLIGHT
BEGIN:STANDARD
TZOFFSETFROM:-0400
TZOFFSETTO:-0500
TZNAME:EST
DTSTART:20241103T060000
END:STANDARD
BEGIN:DAYLIGHT
TZOFFSETFROM:-0500
TZOFFSETTO:-0400
TZNAME:EDT
DTSTART:20250309T070000
END:DAYLIGHT
BEGIN:STANDARD
TZOFFSETFROM:-0400
TZOFFSETTO:-0500
TZNAME:EST
DTSTART:20251102T060000
END:STANDARD
END:VTIMEZONE
BEGIN:VEVENT
DTSTART;TZID=America/New_York:20240203T093000
DTEND;TZID=America/New_York:20240203T170000
DTSTAMP:20260422T115615
CREATED:20240130T162138Z
LAST-MODIFIED:20240130T162149Z
UID:12305-1706952600-1706979600@thespacecoastrocket.com
SUMMARY:Special Olympics benefit run
DESCRIPTION:Starting and finishing at Post 117\nRegistration at 9:30
URL:https://thespacecoastrocket.com/events/special-olympics-benefit-run/
LOCATION:VFW Post 117\, 189 Veterans Drive\, Palm Bay\, 32909\, United States
CATEGORIES:Causes,Charity
ATTACH;FMTTYPE=image/jpeg:https://thespacecoastrocket.com/wp-content/uploads/2024/01/F04D344F-FFCD-4135-8BEB-E4F714214FC9.jpeg
END:VEVENT
END:VCALENDAR