BEGIN:VCALENDAR
VERSION:2.0
PRODID:-//The Space Coast Rocket - ECPv6.15.20//NONSGML v1.0//EN
CALSCALE:GREGORIAN
METHOD:PUBLISH
X-WR-CALNAME:The Space Coast Rocket
X-ORIGINAL-URL:https://thespacecoastrocket.com
X-WR-CALDESC:Events for The Space Coast Rocket
REFRESH-INTERVAL;VALUE=DURATION:PT1H
X-Robots-Tag:noindex
X-PUBLISHED-TTL:PT1H
BEGIN:VTIMEZONE
TZID:America/New_York
BEGIN:DAYLIGHT
TZOFFSETFROM:-0500
TZOFFSETTO:-0400
TZNAME:EDT
DTSTART:20220313T070000
END:DAYLIGHT
BEGIN:STANDARD
TZOFFSETFROM:-0400
TZOFFSETTO:-0500
TZNAME:EST
DTSTART:20221106T060000
END:STANDARD
BEGIN:DAYLIGHT
TZOFFSETFROM:-0500
TZOFFSETTO:-0400
TZNAME:EDT
DTSTART:20230312T070000
END:DAYLIGHT
BEGIN:STANDARD
TZOFFSETFROM:-0400
TZOFFSETTO:-0500
TZNAME:EST
DTSTART:20231105T060000
END:STANDARD
BEGIN:DAYLIGHT
TZOFFSETFROM:-0500
TZOFFSETTO:-0400
TZNAME:EDT
DTSTART:20240310T070000
END:DAYLIGHT
BEGIN:STANDARD
TZOFFSETFROM:-0400
TZOFFSETTO:-0500
TZNAME:EST
DTSTART:20241103T060000
END:STANDARD
END:VTIMEZONE
BEGIN:VEVENT
DTSTART;TZID=America/New_York:20231216T100000
DTEND;TZID=America/New_York:20231216T170000
DTSTAMP:20260422T184218
CREATED:20231126T030856Z
LAST-MODIFIED:20231215T143637Z
UID:10448-1702720800-1702746000@thespacecoastrocket.com
SUMMARY:(CANCELLED) 15th Annual Family Christmas Extravaganza!
DESCRIPTION:This event has been canceled due to inclement weather. \n2023 marks the 15th Annual Family Christmas Extravaganza!\nThe Family Christmas Extravaganza takes place on Saturday\, December 16 from 10 AM to 5 PM at Fred Poppe Regional Park (1951 Malabar Rd. NW).\nThis is a 100% FREE community event featuring live entertainment\, free popcorn\, cotton candy\, hot dogs\, and drinks. Free activities include bounce houses\, horse rides\, face painting\, giveaways\, and SO much more!\nFor more information: familychristmasextravaganza.com
URL:https://thespacecoastrocket.com/events/15th-annual-family-christmas-extravaganza/
LOCATION:Fred Poppe Regional Park\, 1951 Malabar Rd\, Palm Bay\, Florida\, 32907
CATEGORIES:Causes,Charity,Christmas,Community,Kids
ATTACH;FMTTYPE=image/jpeg:https://thespacecoastrocket.com/wp-content/uploads/2023/11/404549292_782336883931450_1613119106777639647_n.jpg
END:VEVENT
END:VCALENDAR